Workbook

Sheet tab-graficos
K1: Clave: tab-graficos
C5: Tabla 1.
C6: Mediana de disponibilidad en meses medicamentos de uso general en PN en Almacén Regional | G6: Periodo: | H6: =CONCATENATE(E8," - ",J8) -> mar-2023 - Jun-2024
D7: =CONCATENATE(C6," ",E8," - ",J8) -> Mediana de disponibilidad en meses medicamentos de uso general en PN en Almacén Regional mar-2023 - Jun-2024
D8: Dic-2022 | E8: mar-2023 | F8: jun-2023 | G8: Sep-2023 | H8: Dic-2023 | I8: Mar-2024 | J8: Jun-2024
C9: Umbral Máximo SUGEMI (5 meses) | D9: 5 | E9: 5 | F9: 5 | G9: 5 | H9: 5 | I9: 5 | J9: 5
C10: Trazadores de uso en Primer Nivel | D10: 1.4925 | E10: 1.1 | F10: 1.415 | G10: 1.4675 | H10: 1.0875 | I10: 1 | J10: 1.20875
C11: Umbral Mínimo SUGEMI (1 meses) | D11: 1 | E11: 1 | F11: 1 | G11: 1 | H11: 1 | I11: 1 | J11: 1
C14: Tabla 2.
C15: Mediana de disponibilidad en meses medicamentos de uso general en CEAS en Almacén Regional
D16: =CONCATENATE(C15," ",E17," - ",J17) -> Mediana de disponibilidad en meses medicamentos de uso general en CEAS en Almacén Regional mar-2017 - jun-2018
D17: dic-2016 | E17: mar-2017 | F17: jun-2017 | G17: sep-2017 | H17: dic-2017 | I17: mar-2018 | J17: jun-2018
C18: Umbral Máximo SUGEMI (5 meses) | D18: 5 | E18: 5 | F18: 5 | G18: 5 | H18: 5 | I18: 5 | J18: 5
C19: Trazadores de uso en Primer Nivel | J19: =IFERROR('reg-datos'!Q68,"")
C20: Umbral Mínimo SUGEMI (1 meses) | D20: 1 | E20: 1 | F20: 1 | G20: 1 | H20: 1 | I20: 1 | J20: 1
C23: Tabla 3
C24: Mediana de disponibilidad en meses medicamentos ARV en Almacén Regional
D25: =CONCATENATE(C24," ",E26," - ",J26) -> Mediana de disponibilidad en meses medicamentos ARV en Almacén Regional mar-2023 - Jun-2024
D26: Dic-2022 | E26: mar-2023 | F26: jun-2023 | G26: Sep-2023 | H26: Dic-2023 | I26: Mar-2024 | J26: Jun-2024
C27: Umbral Máximo SUGEMI (5 meses) | D27: 5 | E27: 5 | F27: 5 | G27: 5 | H27: 5 | I27: 5 | J27: 5
C28: Trazadores ARV Adultos | D28: 3.915 | E28: 13.67805 | F28: 11.2358 | G28: 4.915 | H28: 3.76 | I28: 2.7 | J28: 6.875
C29: Trazadores ARV Pediátricos | D29: 4.165 | E29: 2.5682 | F29: 6.56 | G29: 4.205275 | H29: 3.499175 | I29: 7 | J29: 3.35415
C30: Umbral Mínimo SUGEMI (1 mes) | D30: 1 | E30: 1 | F30: 1 | G30: 1 | H30: 1 | I30: 1 | J30: 1
C33: Tabla 4.
C34: Mediana de disponibilidad en meses medicamentos TB en Almacén Regional
D35: =CONCATENATE(C34," ",E36," - ",J36) -> Mediana de disponibilidad en meses medicamentos TB en Almacén Regional mar-2023 - Jun-2024
D36: Dic-2022 | E36: mar-2023 | F36: jun-2023 | G36: Sep-2023 | H36: Dic-2023 | I36: Mar-2024 | J36: Jun-2024
C37: Umbral Máximo SUGEMI (5 meses) | D37: 5 | E37: 5 | F37: 5 | G37: 5 | H37: 5 | I37: 5 | J37: 5
C38: Trazadores TB | D38: 2 | E38: 12.3455 | F38: 8.0975 | G38: 1.965 | H38: 2.0625 | I38: 1.5 | J38: 1.947775
C39: Umbral Mínimo SUGEMI (1 meses) | D39: 1 | E39: 1 | F39: 1 | G39: 1 | H39: 1 | I39: 1 | J39: 1
C43: Tabla 5.
C44: Mediana de disponibilidad en meses de métodos de Planificación Familiar en Almacén Regional
D45: =CONCATENATE(C44," ",H46," - ",J46) -> Mediana de disponibilidad en meses de métodos de Planificación Familiar en Almacén Regional Dic-2023 - Jun-2024
D46: Dic-2022 | E46: mar-2023 | F46: jun-2023 | G46: Sep-2023 | H46: Dic-2023 | I46: Mar-2024 | J46: Jun-2024
C47: Umbral Máximo SUGEMI (5 meses) | D47: 5 | E47: 5 | F47: 5 | G47: 5 | H47: 5 | I47: 5 | J47: 5
C48: Trazadores de uso en Primer Nivel | D48: 3.0739 | E48: 24.3262 | F48: 24.3193 | G48: 3.425 | H48: 3.08 | I48: 2.5 | J48: 4.565
C49: Umbral Mínimo SUGEMI (1 meses) | D49: 1 | E49: 1 | F49: 1 | G49: 1 | H49: 1 | I49: 1 | J49: 1
C53: Tabla 6.
C54: Mediana de disponibilidad en meses medicamentos de Reactivos de Laboratorio en Almacén Regional
D55: =CONCATENATE(C54," ",E56," - ",J56) -> Mediana de disponibilidad en meses medicamentos de Reactivos de Laboratorio en Almacén Regional jun-2017 - Sep-2018
...

Sheet reg-datos
J1: SERVICIO REGIONAL DE SALUD
J2: UNIDAD REGIONAL DE GESTION DE MEDICAMENTOS (URGM)
J3: REPORTE REGIONAL DE INFORMACIÓN ESTRATÉGICA DEL SUGEMI
I5: Trimestre: | J5: Abril-Junio | L5: Fecha de corte: | M5: 45474
B6: PN | C6: H | D6: E | E6: CUADRO BASICO (CB) | F6: PROGRAMA | H6: TRAZADORES (T)
I7: TRAZADORES | J7: CÓDIGO PRODUCTO | K7: CÓDIGO PROMESE | L7: DESCRIPCION DEL PRODUCTO (Nombre/Concentración/Forma farmacéutica/Presentación) | M7: MEDIANA DE DISPONIBILIDAD POR GERENCIA DE AREAS DE SALUD | Q7: =1/1 -> 1 | R7: =133/182 -> 0.73076923
M8: Gerencia de Area 1 | N8: Gerencia de Area 2 | O8: Gerencia de Area 3 | P8: Gerencia de Area 4 | Q8: Disp. en el almacén Regional medida en meses | R8: Mediana de disp. en establecimientos de salud medida en meses | V8: Disponibilidad en Almacén Regional | W8: Mediana de disponibilidad en Establecimientos de salud
I9: Tabla 1. | Q9: (1 de 1) | R9: ( 52 de 150) | U9: Trazadores uso en PN (EE.SS n=52) | V9: 0.82 | W9: 1
B10: PN | E10: CB | H10: T-PN | I10: MEDICAMENTOS PARA PRIMER NIVEL DE ATENCION | J10: 01010200003 | K10: 3030 | L10: LIDOCAINA CLORHIDRATO 2% S/E 20 mg/ml INYECTABLE VIAL x 50 ml | M10: 1 | N10: 1 | O10: 1 | U10: ARV Adultos (EE.SS n=7) | V10: 1 | W10: 1
B11: PN | C11: H | D11: E | E11: CB | H11: T-PN | J11: 01160300001 | K11: 1605 | L11: N-BUTIL BROMURO DE HIOSCINA 20 mg/ml INYECTABLE AMPOLLA x 1 ml | M11: 1.6 | N11: 1 | O11: 2 | P11: 2.225 | R11: =MEDIAN(M11:Q11) -> 1.8 | U11: ARV Pediátricos (EE.SS n=1) | V11: 1 | W11: 1
B12: PN | E12: CB | H12: T-PN | J12: 01020101004 | K12: 1038 | L12: ACETAMINOFEN (PARACETAMOL) 120 mg/5ml LIQUIDO ORAL FRASCO x 120 ml | M12: 3 | N12: 1.67 | O12: 0.4 | P12: 0.725 | U12: Tuberculosis 1ra. Línea (EE.SS n=36) | V12: 1 | W12: 1
B13: PN | C13: H | D13: E | H13: T-PN | J13: 01020102007 | K13: 1045 | L13: DICLOFENACO SODICO 25 mg/ml INYECTABLE AMPOLLA x 3 ml | M13: 1.46 | N13: 2.11 | O13: 1.6 | P13: 1.455 | R13: =MEDIAN(M13:Q13) -> 1.53 | U13: Planificación Familiar (EE.SS n=38) | V13: 1 | W13: 1
B14: PN | E14: CB | H14: T-PN | J14: 01020101010 | K14: 9042 | L14: KETOROLACO TROMETAMOL 30 mg/ml INYECTABLE AMPOLLA x 1 ml | U14: Laboratorio LAB (EE.SS n=0) | V14: =IFERROR($Q$154,"") | W14: =IFERROR($R$154,"")
B15: PN | C15: H | E15: CB | H15: T-PN-H | J15: 01030100009 | K15: 9057 | L15: EPINEFRINA (ADRENALINA) 1 mg/mL INYECTABLE AMPOLLA x 1 ml | N15: 0.6 | R15: =MEDIAN(M15:Q15) -> 0.6 | U15: Materno Infantil (EE.SS n=0) | V15: =IFERROR($Q$173,"") | W15: =IFERROR($R$173,"")
B16: PN | C16: H | D16: E | E16: CB | H16: T-PN-H | J16: 01030100012 | K16: 1640 | L16: HIDROCORTISONA SUCINATO SODICO 100 mg/mL INYECTABLE VIAL | M16: 1.8 | N16: 1.035 | O16: 1 | P16: 2.5 | R16: =MEDIAN(M16:Q16) -> 1.4175 | U16: Insumo Medico Quirúrgico (EE.EE n=0) | V16: =IFERROR($Q$190,"") | W16: =IFERROR($R$190,"")
B17: PN | C17: H | D17: E | E17: CB | H17: T-PN-H | J17: 01030100003 | K17: 1852 | L17: DIFENHIDRAMINA 10 mg/ml INYECTABLE AMPOLLA x 1 ml | M17: 2.465 | N17: 1.38 | O17: 2.5 | P17: 2.25 | R17: =MEDIAN(M17:Q17) -> 2.3575
B18: PN | C18: H | E18: CB | H18: T-PN | J18: 01060201002 | K18: 1124 | L18: AMOXICILINA 250 mg/5ml POLVO PARA LIQUIDO ORAL FRASCO x 120 ml | M18: 0.955 | N18: 0.805 | O18: 1.5 | P18: 1 | R18: =MEDIAN(M18:Q18) -> 0.9775
B19: PN | C19: H | E19: CB | H19: T-PN | J19: 01120200008 | K19: 3283 | L19: NITROFURAZONA;0.002;POMADA;TUBO x 30 g | N19: 0.63 | O19: 3.07
B20: PN | C20: H | D20: E | E20: CB | H20: T-PN | J20: 01060601004 | L20: METRONIDAZOL BENZOATO 250 mg/5ml LIQUIDO ORAL FRASCO x 120 ml
B21: PN | C21: H | E21: CB | H21: T-PN | J21: 01100100005 | K21: 9359 | L21: SULFATO FERROSO+ACIDO FOLICO 300 mg + 5 mg COMPRIMIDO BLISTER | M21: 3.1 | N21: 3.59 | O21: 3.54 | P21: 3.275 | R21: =MEDIAN(M21:Q21) -> 3.4075
B22: PN | C22: H | D22: E | E22: CB | H22: T-PN | J22: 01110400011 | K22: 1434 | L22: ENALAPRIL MALEATO;10 mg;COMPRIMIDO;BLISTER | M22: 1.67 | N22: 3.405 | O22: 2.4 | P22: 3.815
B23: PN | C23: H | E23: CB | H23: T-PN | J23: 01230300004 | K23: 1801 | L23: DIAZEPAM 5 mg/ml INYECTABLE AMPOLLA x 2 ml
B24: PN | C24: H | D24: E | E24: CB | H24: T-PN-H | J24: 01110400002 | K24: 9356 | L24: CAPTOPRILO S/L 25 mg COMPRIMIDO BLISTER | M24: 1 | N24: 3.665 | O24: 0.67 | P24: 0.25
B25: PN | C25: H | D25: E | E25: CB | H25: T-PN | J25: 01250200008 | K25: 1876 | L25: DEXTROSA (GLUCOSA) 0.5 INYECTABLE VIAL 20 ml
B26: PN | E26: CB | H26: T-PN | J26: 01140100005 | L26: YODOPOVIDONA (POVIDONA YODADA) 10% SOLUCIÓN GALÓN | M26: 1 | P26: 1
B27: PN | C27: H | D27: E | E27: CB | H27: T-PN-H | J27: 01150000007 | K27: 1573 | L27: FUROSEMIDA 10 mg/ml INYECTABLE AMPOLLA x 2 ml | M27: 1.29 | N27: 1.43 | O27: 0.5 | P27: 0.435 | R27: =MEDIAN(M27:Q27) -> 0.895
B28: PN | C28: H | D28: E | E28: CB | H28: T-PN | J28: 01250100001 | K28: 1885 | L28: SALES DE REHIDRATACION ORAL CON CITRATO 27.9 g/L POLVO PARA DISOLUCION SOBRE | M28: 0.8 | N28: 1.2 | O28: 0.64 | P28: 1.425 | R28: =MEDIAN(M28:Q28) -> 1
B29: PN | C29: H | D29: E | E29: CB | H29: T-PN | J29: 01150000009 | K29: 1575 | L29: HIDROCLOROTIAZIDA 50 mg COMPRIMIDO BLISTER | M29: 1.59 | N29: 2.17 | O29: 1.33 | P29: 1.675
B30: PN | C30: H | D30: E | E30: CB | H30: T-PN | J30: 01160100009 | K30: 1591 | L30: RANITIDINA CLORHIDRATO 25 mg/ml INYECTABLE AMPOLLA x 2 ml
B31: PN | C31: H | D31: E | E31: CB | H31: T-PN | J31: 01170400003 | K31: 1664 | L31: INSULINA MIXTA 70 / 30 HUMANA 100 UI/ml INYECTABLE VIAL x 10 ml | M31: 1 | N31: 0.67 | O31: 0.4 | P31: 0.015
B32: PN | C32: H | D32: E | E32: CB | H32: T-PN | J32: 01170400005 | K32: 1661 | L32: METFORMINA 850 mg COMPRIMIDO BLISTER | M32: 2.01 | N32: 2.72 | O32: 0.7 | P32: 1.175
B33: PN | C33: H | E33: CB | H33: T-PN | J33: 01240100017 | K33: 1831 | L33: SALBUTAMOL 5 mg/ml SOLUCIÓN/NEBULIZAR FRASCO x 10 ml
B34: PN | C34: H | D34: E | E34: CB | H34: T-PN | J34: 01250200017 | K34: 1882 | L34: LACTATO DE RINGER (HARTMANN) 1000 ml INYECTABLE FRASCO SOLUCIÓN x 1000 ml | M34: 1 | O34: 2 | P34: 0.155 | R34: =MEDIAN(M34:Q34) -> 1
L35: % de disponibilidad | M35: =COUNTIF(M10:M34,">0.1")/COUNTIF(M10:M34,">=0") -> 1 | N35: =COUNTIF(N10:N34,">0.1")/COUNTIF(N10:N34,">=0") -> 1 | O35: =COUNTIF(O10:O34,">0.1")/COUNTIF(O10:O34,">=0") -> 1 | P35: =COUNTIF(P10:P34,">0.1")/COUNTIF(P10:P34,">=0") -> 0.9375 | Q35: =COUNTIF(Q10:Q34,">0.1")/COUNTIF(Q10:Q34,">=0") -> #DIV/0! | R35: =COUNTIF(R10:R34,">0.1")/COUNTIF(R10:R34,">=0") -> 1
L36: % desabastecidos | M36: =COUNTIF(M10:M34,"<=0.1")/COUNTIF(M10:M34,">=0") -> 0 | N36: =COUNTIF(N10:N34,"<=0.1")/COUNTIF(N10:N34,">=0") -> 0 | O36: =COUNTIF(O10:O34,"<=0.1")/COUNTIF(O10:O34,">=0") -> 0 | P36: =COUNTIF(P10:P34,"<=0.1")/COUNTIF(P10:P34,">=0") -> 0.0625 | Q36: =COUNTIF(Q10:Q34,"<=0.1")/COUNTIF(Q10:Q34,">=0") -> #DIV/0! | R36: =COUNTIF(R10:R34,"<=0.1")/COUNTIF(R10:R34,">=0") -> 0
L37: % sub stock | M37: =(COUNTIF(M10:M34,"<1")-COUNTIF(M10:M34,"<0.1"))/COUNTIF(M10:M34,">=0") -> 0.11764706 | N37: =(COUNTIF(N10:N34,"<1")-COUNTIF(N10:N34,"<0.1"))/COUNTIF(N10:N34,">=0") -> 0.23529412 | O37: =(COUNTIF(O10:O34,"<1")-COUNTIF(O10:O34,"<0.1"))/COUNTIF(O10:O34,">=0") -> 0.35294118 | P37: =(COUNTIF(P10:P34,"<1")-COUNTIF(P10:P34,"<0.1"))/COUNTIF(P10:P34,">=0") -> 0.25 | Q37: =(COUNTIF(Q10:Q34,"<2")-COUNTIF(Q10:Q34,"<0.1"))/COUNTIF(Q10:Q34,">=0") -> #DIV/0! | R37: =(COUNTIF(R10:R34,"<1")-COUNTIF(R10:R34,"<0.1"))/COUNTIF(R10:R34,">=0") -> 0.3
L38: % stock normal | M38: =(COUNTIF(M10:M34,"<=4")-COUNTIF(M10:M34,"<1"))/COUNTIF(M10:M34,">=0") -> 0.88235294 | N38: =(COUNTIF(N10:N34,"<=4")-COUNTIF(N10:N34,"<1"))/COUNTIF(N10:N34,">=0") -> 0.76470588 | O38: =(COUNTIF(O10:O34,"<=4")-COUNTIF(O10:O34,"<1"))/COUNTIF(O10:O34,">=0") -> 0.64705882 | P38: =(COUNTIF(P10:P34,"<=4")-COUNTIF(P10:P34,"<1"))/COUNTIF(P10:P34,">=0") -> 0.6875 | Q38: =(COUNTIF(Q10:Q34,"<=6")-COUNTIF(Q10:Q34,"<1"))/COUNTIF(Q10:Q34,">=0") -> #DIV/0! | R38: =(COUNTIF(R10:R34,"<=4")-COUNTIF(R10:R34,"<1"))/COUNTIF(R10:R34,">=0") -> 0.7
L39: % sobre stock | M39: =COUNTIF(M10:M34,">4")/COUNTIF(M10:M34,">=0") -> 0 | N39: =COUNTIF(N10:N34,">4")/COUNTIF(N10:N34,">=0") -> 0 | O39: =COUNTIF(O10:O34,">4")/COUNTIF(O10:O34,">=0") -> 0 | P39: =COUNTIF(P10:P34,">4")/COUNTIF(P10:P34,">=0") -> 0 | Q39: =COUNTIF(Q10:Q34,">6")/COUNTIF(Q10:Q34,">=0") -> #DIV/0! | R39: =COUNTIF(R10:R34,">4")/COUNTIF(R10:R34,">=0") -> 0
L40: Mediana de disponibilidad | M40: =MEDIAN(M10:M34) -> 1.46 | N40: =MEDIAN(N10:N34) -> 1.38 | O40: =MEDIAN(O10:O34) -> 1.33 | P40: =MEDIAN(P10:P34) -> 1.3 | R40: =MEDIAN(R10:R34) -> 1.20875
I43: Tabla 2. | R43: (… de …)
...

Sheet Boletin
B2: SRS-2
B3: Boletín Regional de Información Estratégica del SUGEMI | Y3: Trimestral
Y5: ='reg-datos'!J5 -> Abril-Junio
Y6: Volumen 4, Numero 2
B8: Servicio Regional de Salud del Norcentral
B9: Unidad Regional de Gestión de Medicamentos e Insumos – URGM-
D12: Contexto: En julio del 2010 se estableció la creación de un Sistema Único de Gestión de Medicamentos e Insumos –SUGEMI-, a través de la Disposición Ministerial No.000019. Su objetivo principal es integrar todos los sistemas de suministros existentes en la Red pública de servicios, bajo una sola administración, que asegure la permanente disponibilidad de medicamentos e insumos médicos de buena calidad. Su alcance y ámbito de operación es el Servicio Regional de Salud y sus redes de establecimientos. El SUGEMI cuenta con un sistema de información que recoge datos mensuales de existencias y consumos de medicamentos, desde los Centros Especializados de Atención en Salud (CEAS) y Centros de Primer Nivel de Atención (CPN). A partir de estos datos se elabora el presente boletín.
C14: Indicador #1. | D14: % De disponibilidad de medicamentos trazadores de uso en PN, TB, ARV y métodos de Planificación Familiar en almacén regional y locales. | Q14: Indicador #2 | S14: Medicamentos de mayor consumo en SRS
C15: Fecha de corte: | E15: ='reg-datos'!$M$5 -> 45474 | Q15: Fecha de corte: | S15: ='reg-datos'!$M$5 -> 45474
C32: PN = Primer Nivel de atención | E32: ARV = Antirretrovirales | H32: TB = Tuberculosis | M32: PF = Planificación Familiar
B34: ALERTAS DE STOCK
B57: Indicador #3. Mediana de disponibilidad en meses en almacén regional para medicamentos trazadores de uso en Primer Nivel, TB, VIH y métodos de PF.
B58: Periodo: | D58: ='tab-graficos'!H6 -> mar-2023 - Jun-2024
