Workbook

Sheet tab-graficos
K1: Clave: tab-graficos
C5: Tabla 1.
C6: Mediana de disponibilidad en meses medicamentos de uso general en PN en Almacén Regional | G6: Periodo: | H6: =CONCATENATE(E8," - ",J8) -> mar-2023 - Jun-2024
D7: =CONCATENATE(C6," ",E8," - ",J8) -> Mediana de disponibilidad en meses medicamentos de uso general en PN en Almacén Regional mar-2023 - Jun-2024
D8: Dic-2022 | E8: mar-2023 | F8: jun-2023 | G8: Sep-2023 | H8: Dic-2023 | I8: Mar-2024 | J8: Jun-2024
C9: Umbral Máximo SUGEMI (5 meses) | D9: 5 | E9: 5 | F9: 5 | G9: 5 | H9: 5 | I9: 5 | J9: 5
C10: Trazadores de uso en Primer Nivel | D10: 1.4925 | E10: 1.1 | F10: 1.415 | G10: 1.4675 | H10: 1.0875 | I10: 1 | J10: 1.20875
C11: Umbral Mínimo SUGEMI (1 meses) | D11: 1 | E11: 1 | F11: 1 | G11: 1 | H11: 1 | I11: 1 | J11: 1
C14: Tabla 2.
C15: Mediana de disponibilidad en meses medicamentos de uso general en CEAS en Almacén Regional
D16: =CONCATENATE(C15," ",E17," - ",J17) -> Mediana de disponibilidad en meses medicamentos de uso general en CEAS en Almacén Regional mar-2017 - jun-2018
D17: dic-2016 | E17: mar-2017 | F17: jun-2017 | G17: sep-2017 | H17: dic-2017 | I17: mar-2018 | J17: jun-2018
C18: Umbral Máximo SUGEMI (5 meses) | D18: 5 | E18: 5 | F18: 5 | G18: 5 | H18: 5 | I18: 5 | J18: 5
C19: Trazadores de uso en Primer Nivel | J19: =IFERROR('reg-datos'!Q68,"")
C20: Umbral Mínimo SUGEMI (1 meses) | D20: 1 | E20: 1 | F20: 1 | G20: 1 | H20: 1 | I20: 1 | J20: 1
C23: Tabla 3
C24: Mediana de disponibilidad en meses medicamentos ARV en Almacén Regional
D25: =CONCATENATE(C24," ",E26," - ",J26) -> Mediana de disponibilidad en meses medicamentos ARV en Almacén Regional mar-2023 - Jun-2024
D26: Dic-2022 | E26: mar-2023 | F26: jun-2023 | G26: Sep-2023 | H26: Dic-2023 | I26: Mar-2024 | J26: Jun-2024
C27: Umbral Máximo SUGEMI (5 meses) | D27: 5 | E27: 5 | F27: 5 | G27: 5 | H27: 5 | I27: 5 | J27: 5
C28: Trazadores ARV Adultos | D28: 3.915 | E28: 13.67805 | F28: 11.2358 | G28: 4.915 | H28: 3.76 | I28: 2.7 | J28: 6.875
C29: Trazadores ARV Pediátricos | D29: 4.165 | E29: 2.5682 | F29: 6.56 | G29: 4.205275 | H29: 3.499175 | I29: 7 | J29: 3.35415
C30: Umbral Mínimo SUGEMI (1 mes) | D30: 1 | E30: 1 | F30: 1 | G30: 1 | H30: 1 | I30: 1 | J30: 1
C33: Tabla 4.
C34: Mediana de disponibilidad en meses medicamentos TB en Almacén Regional
D35: =CONCATENATE(C34," ",E36," - ",J36) -> Mediana de disponibilidad en meses medicamentos TB en Almacén Regional mar-2023 - Jun-2024
D36: Dic-2022 | E36: mar-2023 | F36: jun-2023 | G36: Sep-2023 | H36: Dic-2023 | I36: Mar-2024 | J36: Jun-2024
C37: Umbral Máximo SUGEMI (5 meses) | D37: 5 | E37: 5 | F37: 5 | G37: 5 | H37: 5 | I37: 5 | J37: 5
C38: Trazadores TB | D38: 2 | E38: 12.3455 | F38: 8.0975 | G38: 1.965 | H38: 2.0625 | I38: 1.5 | J38: 1.947775
C39: Umbral Mínimo SUGEMI (1 meses) | D39: 1 | E39: 1 | F39: 1 | G39: 1 | H39: 1 | I39: 1 | J39: 1
C43: Tabla 5.
C44: Mediana de disponibilidad en meses de métodos de Planificación Familiar en Almacén Regional
D45: =CONCATENATE(C44," ",H46," - ",J46) -> Mediana de disponibilidad en meses de métodos de Planificación Familiar en Almacén Regional Dic-2023 - Jun-2024
D46: Dic-2022 | E46: mar-2023 | F46: jun-2023 | G46: Sep-2023 | H46: Dic-2023 | I46: Mar-2024 | J46: Jun-2024
C47: Umbral Máximo SUGEMI (5 meses) | D47: 5 | E47: 5 | F47: 5 | G47: 5 | H47: 5 | I47: 5 | J47: 5
C48: Trazadores de uso en Primer Nivel | D48: 3.0739 | E48: 24.3262 | F48: 24.3193 | G48: 3.425 | H48: 3.08 | I48: 2.5 | J48: 4.565
C49: Umbral Mínimo SUGEMI (1 meses) | D49: 1 | E49: 1 | F49: 1 | G49: 1 | H49: 1 | I49: 1 | J49: 1
C53: Tabla 6.
C54: Mediana de disponibilidad en meses medicamentos de Reactivos de Laboratorio en Almacén Regional
D55: =CONCATENATE(C54," ",E56," - ",J56) -> Mediana de disponibilidad en meses medicamentos de Reactivos de Laboratorio en Almacén Regional jun-2017 - Sep-2018
D56: mar-2017 | E56: jun-2017 | F56: sep-2017 | G56: dic-2017 | H56: mar-2018 | I56: jun-2018 | J56: Sep-2018
C57: Umbral Máximo SUGEMI (5 meses) | D57: 5 | E57: 5 | F57: 5 | G57: 5 | H57: 5 | I57: 5 | J57: 5
C58: Trazadores de uso en Primer Nivel | J58: =IFERROR('reg-datos'!Q159,"")
C59: Umbral Mínimo SUGEMI (1 meses) | D59: 1 | E59: 1 | F59: 1 | G59: 1 | H59: 1 | I59: 1 | J59: 1
C62: Tabla 7.
C63: Mediana de disponibilidad en meses medicamentos de Materno Infantil en Almacén Regional
D64: =CONCATENATE(C63," ",E65," - ",J65) -> Mediana de disponibilidad en meses medicamentos de Materno Infantil en Almacén Regional jun-2017 - Sep-2018
D65: mar-2017 | E65: jun-2017 | F65: sep-2017 | G65: dic-2017 | H65: mar-2018 | I65: jun-2018 | J65: Sep-2018
C66: Umbral Máximo SUGEMI (5 meses) | D66: 5 | E66: 5 | F66: 5 | G66: 5 | H66: 5 | I66: 5 | J66: 5
C67: Trazadores de uso en Primer Nivel | J67: =IFERROR('reg-datos'!Q178,"")
C68: Umbral Mínimo SUGEMI (1 meses) | D68: 1 | E68: 1 | F68: 1 | G68: 1 | H68: 1 | I68: 1 | J68: 1
C71: Tabla 8.
C72: Mediana de disponibilidad en meses de Insumo Medico Quirúrgico en Almacén Regional
D73: =CONCATENATE(C72," ",E74," - ",J74) -> Mediana de disponibilidad en meses de Insumo Medico Quirúrgico en Almacén Regional jun-2017 - Sep-2018
D74: mar-2017 | E74: jun-2017 | F74: sep-2017 | G74: dic-2017 | H74: mar-2018 | I74: jun-2018 | J74: Sep-2018
C75: Umbral Máximo SUGEMI (5 meses) | D75: 5 | E75: 5 | F75: 5 | G75: 5 | H75: 5 | I75: 5 | J75: 5
C76: Trazadores de uso en Primer Nivel | J76: =IFERROR('reg-datos'!Q195,"")
C77: Umbral Mínimo SUGEMI (1 meses) | D77: 1 | E77: 1 | F77: 1 | G77: 1 | H77: 1 | I77: 1 | J77: 1
C80: Tabla 9.
C81: MEDICAMENTOS DE MAYOR CONSUMO | D81: 45444
C82: MEDICAMENTOS DE MAYOR CONSUMO | D82: CONSUMO PROMEDIO | E82: EXISTENCIA | F82: Disp. en el almacén Regional medida en meses
C83: ACETAMINOFEN (PARACETAMOL) 500 mg TABLETA BLISTER | D83: 72034 | E83: 174218 | F83: =E83/D83 -> 2.4185524
C84: METFORMINA 850 mg TABLETA BLISTER | D84: 69420 | E84: 117605 | F84: =E84/D84 -> 1.6941083
C85: ACIDO ACETILSALICILICO 81 mg TABLETA BLISTER | D85: 58891 | E85: 116616 | F85: =E85/D85 -> 1.9802007
C86: IBUPROFENO 600 mg TABLETA BLISTER | D86: 52173 | E86: 110402 | F86: =E86/D86 -> 2.1160754
C87: LOSARTAN 50 mg TABLETA BLISTER | D87: 49210 | E87: 118494 | F87: =E87/D87 -> 2.4079252
C88: % de disponibilidad | F88: =COUNTIF($F$83:$F$87,">0.1")/COUNTIF($F$83:$F$87,">=0") -> 1
C89: % desabastecidos | F89: =COUNTIF(F83:F87,"<=0.1")/COUNTIF(F83:F87,">=0") -> 0
C90: % sub stock | F90: =(COUNTIF(F83:F87,"<2")-COUNTIF(F83:F87,"<0.1"))/COUNTIF(F83:F87,">=0") -> 0.4
C91: % stock normal | F91: =(COUNTIF(F83:F87,"<=6")-COUNTIF(F83:F87,"<1"))/COUNTIF(F83:F87,">=0") -> 1
C92: % sobre stock | F92: =COUNTIF(F83:F87,">6")/COUNTIF(F83:F87,">=0") -> 0
F93: =MEDIAN(F83:F87) -> 2.1160754
C95: SEMAFORO: Alertas de stocks en almacén central (Mediana de disponibilidad)
C96: =CONCATENATE($C$95,"_",$J$8) -> SEMAFORO: Alertas de stocks en almacén central (Mediana de disponibilidad)_Jun-2024

Sheet reg-datos
J1: SERVICIO REGIONAL DE SALUD
J2: UNIDAD REGIONAL DE GESTION DE MEDICAMENTOS (URGM)
J3: REPORTE REGIONAL DE INFORMACIÓN ESTRATÉGICA DEL SUGEMI
I5: Trimestre: | J5: Abril-Junio | L5: Fecha de corte: | M5: 45474
B6: PN | C6: H | D6: E | E6: CUADRO BASICO (CB) | F6: PROGRAMA | H6: TRAZADORES (T)
I7: TRAZADORES | J7: CÓDIGO PRODUCTO | K7: CÓDIGO PROMESE | L7: DESCRIPCION DEL PRODUCTO (Nombre/Concentración/Forma farmacéutica/Presentación) | M7: MEDIANA DE DISPONIBILIDAD POR GERENCIA DE AREAS DE SALUD | Q7: =1/1 -> 1 | R7: =133/182 -> 0.73076923
M8: Gerencia de Area 1 | N8: Gerencia de Area 2 | O8: Gerencia de Area 3 | P8: Gerencia de Area 4 | Q8: Disp. en el almacén Regional medida en meses | R8: Mediana de disp. en establecimientos de salud medida en meses | V8: Disponibilidad en Almacén Regional | W8: Mediana de disponibilidad en Establecimientos de salud
I9: Tabla 1. | Q9: (1 de 1) | R9: ( 52 de 150) | U9: Trazadores uso en PN (EE.SS n=52) | V9: 0.82 | W9: 1
B10: PN | E10: CB | H10: T-PN | I10: MEDICAMENTOS PARA PRIMER NIVEL DE ATENCION | J10: 01010200003 | K10: 3030 | L10: LIDOCAINA CLORHIDRATO 2% S/E 20 mg/ml INYECTABLE VIAL x 50 ml | M10: 1 | N10: 1 | O10: 1 | U10: ARV Adultos (EE.SS n=7) | V10: 1 | W10: 1
B11: PN | C11: H | D11: E | E11: CB | H11: T-PN | J11: 01160300001 | K11: 1605 | L11: N-BUTIL BROMURO DE HIOSCINA 20 mg/ml INYECTABLE AMPOLLA x 1 ml | M11: 1.6 | N11: 1 | O11: 2 | P11: 2.225 | R11: =MEDIAN(M11:Q11) -> 1.8 | U11: ARV Pediátricos (EE.SS n=1) | V11: 1 | W11: 1
B12: PN | E12: CB | H12: T-PN | J12: 01020101004 | K12: 1038 | L12: ACETAMINOFEN (PARACETAMOL) 120 mg/5ml LIQUIDO ORAL FRASCO x 120 ml | M12: 3 | N12: 1.67 | O12: 0.4 | P12: 0.725 | U12: Tuberculosis 1ra. Línea (EE.SS n=36) | V12: 1 | W12: 1
B13: PN | C13: H | D13: E | H13: T-PN | J13: 01020102007 | K13: 1045 | L13: DICLOFENACO SODICO 25 mg/ml INYECTABLE AMPOLLA x 3 ml | M13: 1.46 | N13: 2.11 | O13: 1.6 | P13: 1.455 | R13: =MEDIAN(M13:Q13) -> 1.53 | U13: Planificación Familiar (EE.SS n=38) | V13: 1 | W13: 1
B14: PN | E14: CB | H14: T-PN | J14: 01020101010 | K14: 9042 | L14: KETOROLACO TROMETAMOL 30 mg/ml INYECTABLE AMPOLLA x 1 ml | U14: Laboratorio LAB (EE.SS n=0) | V14: =IFERROR($Q$154,"") | W14: =IFERROR($R$154,"")
B15: PN | C15: H | E15: CB | H15: T-PN-H | J15: 01030100009 | K15: 9057 | L15: EPINEFRINA (ADRENALINA) 1 mg/mL INYECTABLE AMPOLLA x 1 ml | N15: 0.6 | R15: =MEDIAN(M15:Q15) -> 0.6 | U15: Materno Infantil (EE.SS n=0) | V15: =IFERROR($Q$173,"") | W15: =IFERROR($R$173,"")
B16: PN | C16: H | D16: E | E16: CB | H16: T-PN-H | J16: 01030100012 | K16: 1640 | L16: HIDROCORTISONA SUCINATO SODICO 100 mg/mL INYECTABLE VIAL | M16: 1.8 | N16: 1.035 | O16: 1 | P16: 2.5 | R16: =MEDIAN(M16:Q16) -> 1.4175 | U16: Insumo Medico Quirúrgico (EE.EE n=0) | V16: =IFERROR($Q$190,"") | W16: =IFERROR($R$190,"")
B17: PN | C17: H | D17: E | E17: CB | H17: T-PN-H | J17: 01030100003 | K17: 1852 | L17: DIFENHIDRAMINA 10 mg/ml INYECTABLE AMPOLLA x 1 ml | M17: 2.465 | N17: 1.38 | O17: 2.5 | P17: 2.25 | R17: =MEDIAN(M17:Q17) -> 2.3575
B18: PN | C18: H | E18: CB | H18: T-PN | J18: 01060201002 | K18: 1124 | L18: AMOXICILINA 250 mg/5ml POLVO PARA LIQUIDO ORAL FRASCO x 120 ml | M18: 0.955 | N18: 0.805 | O18: 1.5 | P18: 1 | R18: =MEDIAN(M18:Q18) -> 0.9775
B19: PN | C19: H | E19: CB | H19: T-PN | J19: 01120200008 | K19: 3283 | L19: NITROFURAZONA;0.002;POMADA;TUBO x 30 g | N19: 0.63 | O19: 3.07
B20: PN | C20: H | D20: E | E20: CB | H20: T-PN | J20: 01060601004 | L20: METRONIDAZOL BENZOATO 250 mg/5ml LIQUIDO ORAL FRASCO x 120 ml
B21: PN | C21: H | E21: CB | H21: T-PN | J21: 01100100005 | K21: 9359 | L21: SULFATO FERROSO+ACIDO FOLICO 300 mg + 5 mg COMPRIMIDO BLISTER | M21: 3.1 | N21: 3.59 | O21: 3.54 | P21: 3.275 | R21: =MEDIAN(M21:Q21) -> 3.4075
B22: PN | C22: H | D22: E | E22: CB | H22: T-PN | J22: 01110400011 | K22: 1434 | L22: ENALAPRIL MALEATO;10 mg;COMPRIMIDO;BLISTER | M22: 1.67 | N22: 3.405 | O22: 2.4 | P22: 3.815
B23: PN | C23: H | E23: CB | H23: T-PN | J23: 01230300004 | K23: 1801 | L23: DIAZEPAM 5 mg/ml INYECTABLE AMPOLLA x 2 ml
B24: PN | C24: H | D24: E | E24: CB | H24: T-PN-H | J24: 01110400002 | K24: 9356 | L24: CAPTOPRILO S/L 25 mg COMPRIMIDO BLISTER | M24: 1 | N24: 3.665 | O24: 0.67 | P24: 0.25
B25: PN | C25: H | D25: E | E25: CB | H25: T-PN | J25: 01250200008 | K25: 1876 | L25: DEXTROSA (GLUCOSA) 0.5 INYECTABLE VIAL 20 ml
B26: PN | E26: CB | H26: T-PN | J26: 01140100005 | L26: YODOPOVIDONA (POVIDONA YODADA) 10% SOLUCIÓN GALÓN | M26: 1 | P26: 1
B27: PN | C27: H | D27: E | E27: CB | H27: T-PN-H | J27: 01150000007 | K27: 1573 | L27: FUROSEMIDA 10 mg/ml INYECTABLE AMPOLLA x 2 ml | M27: 1.29 | N27: 1.43 | O27: 0.5 | P27: 0.435 | R27: =MEDIAN(M27:Q27) -> 0.895
B28: PN | C28: H | D28: E | E28: CB | H28: T-PN | J28: 01250100001 | K28: 1885 | L28: SALES DE REHIDRATACION ORAL CON CITRATO 27.9 g/L POLVO PARA DISOLUCION SOBRE | M28: 0.8 | N28: 1.2 | O28: 0.64 | P28: 1.425 | R28: =MEDIAN(M28:Q28) -> 1
B29: PN | C29: H | D29: E | E29: CB | H29: T-PN | J29: 01150000009 | K29: 1575 | L29: HIDROCLOROTIAZIDA 50 mg COMPRIMIDO BLISTER | M29: 1.59 | N29: 2.17 | O29: 1.33 | P29: 1.675
B30: PN | C30: H | D30: E | E30: CB | H30: T-PN | J30: 01160100009 | K30: 1591 | L30: RANITIDINA CLORHIDRATO 25 mg/ml INYECTABLE AMPOLLA x 2 ml
B31: PN | C31: H | D31: E | E31: CB | H31: T-PN | J31: 01170400003 | K31: 1664 | L31: INSULINA MIXTA 70 / 30 HUMANA 100 UI/ml INYECTABLE VIAL x 10 ml | M31: 1 | N31: 0.67 | O31: 0.4 | P31: 0.015
B32: PN | C32: H | D32: E | E32: CB | H32: T-PN | J32: 01170400005 | K32: 1661 | L32: METFORMINA 850 mg COMPRIMIDO BLISTER | M32: 2.01 | N32: 2.72 | O32: 0.7 | P32: 1.175
B33: PN | C33: H | E33: CB | H33: T-PN | J33: 01240100017 | K33: 1831 | L33: SALBUTAMOL 5 mg/ml SOLUCIÓN/NEBULIZAR FRASCO x 10 ml
B34: PN | C34: H | D34: E | E34: CB | H34: T-PN | J34: 01250200017 | K34: 1882 | L34: LACTATO DE RINGER (HARTMANN) 1000 ml INYECTABLE FRASCO SOLUCIÓN x 1000 ml | M34: 1 | O34: 2 | P34: 0.155 | R34: =MEDIAN(M34:Q34) -> 1
L35: % de disponibilidad | M35: =COUNTIF(M10:M34,">0.1")/COUNTIF(M10:M34,">=0") -> 1 | N35: =COUNTIF(N10:N34,">0.1")/COUNTIF(N10:N34,">=0") -> 1 | O35: =COUNTIF(O10:O34,">0.1")/COUNTIF(O10:O34,">=0") -> 1 | P35: =COUNTIF(P10:P34,">0.1")/COUNTIF(P10:P34,">=0") -> 0.9375 | Q35: =COUNTIF(Q10:Q34,">0.1")/COUNTIF(Q10:Q34,">=0") -> #DIV/0! | R35: =COUNTIF(R10:R34,">0.1")/COUNTIF(R10:R34,">=0") -> 1
L36: % desabastecidos | M36: =COUNTIF(M10:M34,"<=0.1")/COUNTIF(M10:M34,">=0") -> 0 | N36: =COUNTIF(N10:N34,"<=0.1")/COUNTIF(N10:N34,">=0") -> 0 | O36: =COUNTIF(O10:O34,"<=0.1")/COUNTIF(O10:O34,">=0") -> 0 | P36: =COUNTIF(P10:P34,"<=0.1")/COUNTIF(P10:P34,">=0") -> 0.0625 | Q36: =COUNTIF(Q10:Q34,"<=0.1")/COUNTIF(Q10:Q34,">=0") -> #DIV/0! | R36: =COUNTIF(R10:R34,"<=0.1")/COUNTIF(R10:R34,">=0") -> 0
L37: % sub stock | M37: =(COUNTIF(M10:M34,"<1")-COUNTIF(M10:M34,"<0.1"))/COUNTIF(M10:M34,">=0") -> 0.11764706 | N37: =(COUNTIF(N10:N34,"<1")-COUNTIF(N10:N34,"<0.1"))/COUNTIF(N10:N34,">=0") -> 0.23529412 | O37: =(COUNTIF(O10:O34,"<1")-COUNTIF(O10:O34,"<0.1"))/COUNTIF(O10:O34,">=0") -> 0.35294118 | P37: =(COUNTIF(P10:P34,"<1")-COUNTIF(P10:P34,"<0.1"))/COUNTIF(P10:P34,">=0") -> 0.25 | Q37: =(COUNTIF(Q10:Q34,"<2")-COUNTIF(Q10:Q34,"<0.1"))/COUNTIF(Q10:Q34,">=0") -> #DIV/0! | R37: =(COUNTIF(R10:R34,"<1")-COUNTIF(R10:R34,"<0.1"))/COUNTIF(R10:R34,">=0") -> 0.3
L38: % stock normal | M38: =(COUNTIF(M10:M34,"<=4")-COUNTIF(M10:M34,"<1"))/COUNTIF(M10:M34,">=0") -> 0.88235294 | N38: =(COUNTIF(N10:N34,"<=4")-COUNTIF(N10:N34,"<1"))/COUNTIF(N10:N34,">=0") -> 0.76470588 | O38: =(COUNTIF(O10:O34,"<=4")-COUNTIF(O10:O34,"<1"))/COUNTIF(O10:O34,">=0") -> 0.64705882 | P38: =(COUNTIF(P10:P34,"<=4")-COUNTIF(P10:P34,"<1"))/COUNTIF(P10:P34,">=0") -> 0.6875 | Q38: =(COUNTIF(Q10:Q34,"<=6")-COUNTIF(Q10:Q34,"<1"))/COUNTIF(Q10:Q34,">=0") -> #DIV/0! | R38: =(COUNTIF(R10:R34,"<=4")-COUNTIF(R10:R34,"<1"))/COUNTIF(R10:R34,">=0") -> 0.7
L39: % sobre stock | M39: =COUNTIF(M10:M34,">4")/COUNTIF(M10:M34,">=0") -> 0 | N39: =COUNTIF(N10:N34,">4")/COUNTIF(N10:N34,">=0") -> 0 | O39: =COUNTIF(O10:O34,">4")/COUNTIF(O10:O34,">=0") -> 0 | P39: =COUNTIF(P10:P34,">4")/COUNTIF(P10:P34,">=0") -> 0 | Q39: =COUNTIF(Q10:Q34,">6")/COUNTIF(Q10:Q34,">=0") -> #DIV/0! | R39: =COUNTIF(R10:R34,">4")/COUNTIF(R10:R34,">=0") -> 0
L40: Mediana de disponibilidad | M40: =MEDIAN(M10:M34) -> 1.46 | N40: =MEDIAN(N10:N34) -> 1.38 | O40: =MEDIAN(O10:O34) -> 1.33 | P40: =MEDIAN(P10:P34) -> 1.3 | R40: =MEDIAN(R10:R34) -> 1.20875
I43: Tabla 2. | R43: (… de …)
B44: PN | C44: H | D44: E | E44: CB | H44: T-H | I44: MEDICAMENTOS PARA CEAS | J44: 01030100013 | K44: 1639 | L44: DEXAMETASONA FOSFATO SODICO 4 mg/ml INYECTABLE AMPOLLA x 2 ml | Q44: n/a | R44: =IFERROR(MEDIAN(M44:P44),"")
B45: PN | C45: H | E45: CB | H45: T-PN-H | J45: 01030100009 | K45: 9057 | L45: EPINEFRINA (ADRENALINA) 1 mg/mL INYECTABLE AMPOLLA x 1 ml | Q45: n/a | R45: =IFERROR(MEDIAN(M45:P45),"")
B46: PN | C46: H | D46: E | E46: CB | H46: T-PN-H | J46: 01030100012 | K46: 1640 | L46: HIDROCORTISONA SUCINATO SODICO 100 mg/mL INYECTABLE VIAL | Q46: n/a | R46: =IFERROR(MEDIAN(M46:P46),"")
B47: PN | C47: H | D47: E | E47: CB | H47: T-H | J47: 01040100016 | L47: FITOMENADIONA (VIT.K) 10 mg INYECTABLE AMPOLLA x 5 ml | Q47: n/a | R47: =IFERROR(MEDIAN(M47:P47),"")
B48: PN | C48: H | D48: E | E48: CB | H48: T-PN-H | J48: 01030100003 | K48: 1852 | L48: DIFENHIDRAMINA 10 mg/5ml INYECTABLE AMPOLLA x 1 ml | Q48: n/a | R48: =IFERROR(MEDIAN(M48:P48),"")
C49: H | D49: E | E49: CB | H49: T-H | J49: 01250200008 | K49: 1876 | L49: DEXTROSA (GLUCOSA) 0.5 INYECTABLE VIAL 20 ml | Q49: n/a | R49: =IFERROR(MEDIAN(M49:P49),"")
C50: H | D50: E | E50: CB | H50: T-H | J50: 01010200003 | K50: 3030 | L50: LIDOCAINA CLORHIDRATO 2% S/E 20 mg/ml INYECTABLE VIAL x 50 ml | Q50: n/a | R50: =IFERROR(MEDIAN(M50:P50),"")
B51: PN | C51: H | D51: E | E51: CB | H51: T-PN-H | J51: 01110400002 | L51: CAPTOPRILO S/L 25 mg COMPRIMIDO BLISTER | Q51: n/a | R51: =IFERROR(MEDIAN(M51:P51),"")
C52: H | D52: E | E52: CB | H52: T-H | J52: 01150000007 | K52: 1573 | L52: FUROSEMIDA 10 mg/ml INYECTABLE AMPOLLA x 2 ml | Q52: n/a | R52: =IFERROR(MEDIAN(M52:P52),"")
C53: H | D53: E | E53: CB | H53: T-H | J53: 01160100009 | L53: RANITIDINA CLORHIDRATO 25 mg/ml INYECTABLE AMPOLLA x 2 ml | Q53: n/a | R53: =IFERROR(MEDIAN(M53:P53),"")
B54: PN | C54: H | D54: E | E54: CB | H54: T-PN-H | J54: 01020300008 | L54: NALBUFINA 10 mg/ml INYECTABLE AMPOLLA x 2 ml | Q54: n/a | R54: =IFERROR(MEDIAN(M54:P54),"")
B55: PN | C55: H | D55: E | E55: CB | H55: T-PN-H | J55: 01230300012 | K55: 1809 | L55: MIDAZOLAM 5 mg/ml INYECTABLE AMPOLLA x 3 ml | Q55: n/a | R55: =IFERROR(MEDIAN(M55:P55),"")
C56: H | D56: E | E56: CB | H56: T-H | J56: 01050000007 | L56: FENITOINA SODICA 50 mg/ml INYECTABLE VIA x 5 ml | Q56: n/a | R56: =IFERROR(MEDIAN(M56:P56),"")
C57: H | E57: CB | H57: T-H | J57: 01020102007 | K57: 1045 | L57: DICLOFENACO SODICO 25 mg/ml INYECTABLE AMPOLLA x 3 ml | Q57: n/a | R57: =IFERROR(MEDIAN(M57:P57),"")
B58: PN | C58: H | D58: E | E58: CB | H58: T-H | J58: 01160300001 | K58: 1605 | L58: N-BUTIL BROMURO DE HIOSCINA 20 mg/ml INYECTABLE AMPOLLA x 1 ml | Q58: n/a | R58: =IFERROR(MEDIAN(M58:P58),"")
C59: H | E59: CB | H59: T-H | J59: 01170400004 | K59: 1665 | L59: INSULINA REGULAR (CRISTALINA) 100 UI/ml INYECTABLE VIAL x 10 ml | Q59: n/a | R59: =IFERROR(MEDIAN(M59:P59),"")
B60: PN | C60: H | D60: E | E60: CB | H60: T-H | J60: 01200500003 | K60: 1030 | L60: ATROPINA SULFATO 1 mg/ ml INYECTABLE AMPOLLA x 1 ml | Q60: n/a | R60: =IFERROR(MEDIAN(M60:P60),"")
B61: PN | C61: H | D61: E | E61: CB | H61: T-H | J61: 01230300004 | K61: 1801 | L61: DIAZEPAM 5 mg/ml INYECTABLE AMPOLLA x 2 ml | Q61: n/a | R61: =IFERROR(MEDIAN(M61:P61),"")
B62: PN | C62: H | D62: E | E62: CB | H62: T-H | J62: 01250200017 | L62: LACTATO DE RINGER (HARTMANN) 1000 ml INYECTABLE FRASCO SOLUCIÓN x 1000 ml | Q62: n/a | R62: =IFERROR(MEDIAN(M62:P62),"")
L63: % de disponibilidad | M63: =COUNTIF(M44:M62,">0.1")/COUNTIF(M44:M62,">=0") -> #DIV/0! | N63: =COUNTIF(N44:N62,">0.1")/COUNTIF(N44:N62,">=0") -> #DIV/0! | O63: =COUNTIF(O44:O62,">0.1")/COUNTIF(O44:O62,">=0") -> #DIV/0! | P63: =COUNTIF(P44:P62,">0.1")/COUNTIF(P44:P62,">=0") -> #DIV/0! | Q63: =COUNTIF(Q44:Q62,">0.1")/COUNTIF(Q44:Q62,">=0") -> #DIV/0! | R63: =COUNTIF(R44:R62,">0.1")/COUNTIF(R44:R62,">=0") -> #DIV/0!
L64: % desabastecidos | M64: =COUNTIF(M44:M62,"<=0.1")/COUNTIF(M44:M62,">=0") -> #DIV/0! | N64: =COUNTIF(N44:N62,"<=0.1")/COUNTIF(N44:N62,">=0") -> #DIV/0! | O64: =COUNTIF(O44:O62,"<=0.1")/COUNTIF(O44:O62,">=0") -> #DIV/0! | P64: =COUNTIF(P44:P62,"<=0.1")/COUNTIF(P44:P62,">=0") -> #DIV/0! | Q64: =COUNTIF(Q44:Q62,"<=0.1")/COUNTIF(Q44:Q62,">=0") -> #DIV/0! | R64: =COUNTIF(R44:R62,"<=0.1")/COUNTIF(R44:R62,">=0") -> #DIV/0!
L65: % sub stock | M65: =(COUNTIF(M44:M62,"<1")-COUNTIF(M44:M62,"<0.1"))/COUNTIF(M44:M62,">=0") -> #DIV/0! | N65: =(COUNTIF(N44:N62,"<1")-COUNTIF(N44:N62,"<0.1"))/COUNTIF(N44:N62,">=0") -> #DIV/0! | O65: =(COUNTIF(O44:O62,"<1")-COUNTIF(O44:O62,"<0.1"))/COUNTIF(O44:O62,">=0") -> #DIV/0! | P65: =(COUNTIF(P44:P62,"<1")-COUNTIF(P44:P62,"<0.1"))/COUNTIF(P44:P62,">=0") -> #DIV/0! | Q65: =(COUNTIF(Q44:Q62,"<1")-COUNTIF(Q44:Q62,"<0.1"))/COUNTIF(Q44:Q62,">=0") -> #DIV/0! | R65: =(COUNTIF(R44:R62,"<1")-COUNTIF(R44:R62,"<0.1"))/COUNTIF(R44:R62,">=0") -> #DIV/0!
L66: % stock normal | M66: =(COUNTIF(M44:M62,"<=4")-COUNTIF(M44:M62,"<1"))/COUNTIF(M44:M62,">=0") -> #DIV/0! | N66: =(COUNTIF(N44:N62,"<=4")-COUNTIF(N44:N62,"<1"))/COUNTIF(N44:N62,">=0") -> #DIV/0! | O66: =(COUNTIF(O44:O62,"<=4")-COUNTIF(O44:O62,"<1"))/COUNTIF(O44:O62,">=0") -> #DIV/0! | P66: =(COUNTIF(P44:P62,"<=4")-COUNTIF(P44:P62,"<1"))/COUNTIF(P44:P62,">=0") -> #DIV/0! | Q66: =(COUNTIF(Q44:Q62,"<=6")-COUNTIF(Q44:Q62,"<1"))/COUNTIF(Q44:Q62,">=0") -> #DIV/0! | R66: =(COUNTIF(R44:R62,"<=4")-COUNTIF(R44:R62,"<1"))/COUNTIF(R44:R62,">=0") -> #DIV/0!
L67: % sobre stock | M67: =COUNTIF(M44:M62,">4")/COUNTIF(M44:M62,">=0") -> #DIV/0! | N67: =COUNTIF(N44:N62,">4")/COUNTIF(N44:N62,">=0") -> #DIV/0! | O67: =COUNTIF(O44:O62,">4")/COUNTIF(O44:O62,">=0") -> #DIV/0! | P67: =COUNTIF(P44:P62,">4")/COUNTIF(P44:P62,">=0") -> #DIV/0! | Q67: =COUNTIF(Q44:Q62,">6")/COUNTIF(Q44:Q62,">=0") -> #DIV/0! | R67: =COUNTIF(R44:R62,">4")/COUNTIF(R44:R62,">=0") -> #DIV/0!
L68: Mediana de disponibilidad | M68: =MEDIAN(M44:M62) -> #NUM! | N68: =MEDIAN(N44:N62) -> #NUM! | O68: =MEDIAN(O44:O62) -> #NUM! | P68: =MEDIAN(P44:P62) -> #NUM! | Q68: =MEDIAN(Q44:Q62) -> #NUM! | R68: =MEDIAN(R44:R62) -> #NUM!
I71: Tabla 3. | Q71: (1 de 1) | R71: (7 de 11)
D72: E | E72: CB | F72: VIH | G72: Adulto | H72: T-VIH | I72: MEDICAMENTOS ARV ADULTO | J72: 01061000002 | K72: CP1B08T060 | L72: ABACAVIR 300 mg TABLETA FRASCO | Y72: =IFERROR(VLOOKUP(K72,[1]analisis!$D$9:$OI$44,$Y$8,FALSE),"")
D73: E | E73: CB | F73: VIH | G73: Adulto | H73: T-VIH | J73: 01061000027 | K73: CP1B08T3TCABC | L73: ABACAVIR/LAMIVUDINA 600 mg + 300 mg TABLETA FRASCO | Y73: =IFERROR(VLOOKUP(K73,[1]analisis!$D$9:$OI$44,$Y$8,FALSE),"")
D74: E | E74: CB | F74: VIH | G74: Adulto | H74: T-VIH | J74: 01061000004 | K74: CP1A15T06001 | L74: ATAZANAVIR/RITONAVIR 300 mg/100 mg TABLETA FRASCO | Y74: =IFERROR(VLOOKUP(K74,[1]analisis!$D$9:$OI$44,$Y$8,FALSE),"")
D75: E | E75: CB | F75: VIH | G75: Adulto | H75: T-VIH | J75: 10600406002 | L75: DARUNAVIR 600 mg TABLETA FRASCO | Y75: =IFERROR(VLOOKUP(K75,[1]analisis!$D$9:$OI$44,$Y$8,FALSE),"")
D76: E | E76: CB | F76: VIH | G76: Adulto | H76: T-VIH | J76: 10600425001 | K76: CPDOLVIR50MG | L76: DOLUTEGRAVIR 50mg FRASCO | Y76: =IFERROR(VLOOKUP(K76,[1]analisis!$D$9:$OI$44,$Y$8,FALSE),"")
D77: E | E77: CB | F77: VIH | G77: Adulto | H77: T-VIH | J77: 01061000010 | K77: CP1C02T030/600 MG | L77: EFAVIRENZ 600 mg TABLETA FRASCO | Y77: =IFERROR(VLOOKUP(K77,[1]analisis!$D$9:$OI$44,$Y$8,FALSE),"")
D78: E | E78: CB | F78: VIH | G78: Adulto | H78: T-VIH | J78: 01061000049 | K78: CP1E01T32 | L78: TENOFOVIR/EMTRICITABINA 300 mg /200 mg TABLETA FRASCO | M78: 5.99 | N78: 5.25 | O78: 3.94 | P78: 4.79 | Q78: 6.9793 | R78: =MEDIAN(M78:Q78) -> 5.25 | Y78: =IFERROR(VLOOKUP(K78,[1]analisis!$D$9:$OI$44,$Y$8,FALSE),"")
D79: E | E79: CB | F79: VIH | G79: Adulto | H79: T-VIH | J79: 01061000040 | K79: CP1A09C180 | L79: LOPINAVIR/RITONAVIR 100 mg + 25 mg TABLETA FRASCO | Y79: =IFERROR(VLOOKUP(K79,[1]analisis!$D$9:$OI$44,$Y$8,FALSE),"")
D80: E | E80: CB | F80: VIH | G80: Adulto | H80: T-VIH | J80: 01061000039 | K80: CP1A09C120C | L80: LOPINAVIR/RITONAVIR 200 mg + 50 mg TABLETA FRASCO | Y80: =IFERROR(VLOOKUP(K80,[1]analisis!$D$9:$OI$44,$Y$8,FALSE),"")
D81: E | E81: CB | F81: VIH | G81: Adulto | H81: T-VIH | J81: 01061000021 | K81: CP1C01T060 | L81: NEVIRAPINA 200 mg TABLETA FRASCO | Y81: =IFERROR(VLOOKUP(K81,[1]analisis!$D$9:$OI$44,$Y$8,FALSE),"")
D82: E | E82: CB | F82: VIH | G82: Adulto | H82: T-VIH | J82: 01061000047 | K82: CPRALTEGRAVIR400MG | L82: RALTEGRAVIR 400 mg TABLETA FRASCO | Y82: =IFERROR(VLOOKUP(K82,[1]analisis!$D$9:$OI$44,$Y$8,FALSE),"")
D83: E | E83: CB | F83: VIH | G83: Adulto | H83: T-VIH | J83: 01061000038 | K83: CP1A14C84 | L83: RITONAVIR 100 mg TABLETA FRASCO | M83: 1 | N83: 1.86 | Q83: 5.7143 | Y83: =IFERROR(VLOOKUP(K83,[1]analisis!$D$9:$OI$44,$Y$8,FALSE),"")
D84: E | E84: CB | F84: VIH | G84: Adulto | H84: T-VIH | J84: 01061000023 | K84: CP1E01TDF3TC | L84: TENOFOVIR/LAMIVUDINA 300 mg + 300 mg TABLETA FRASCO | N84: 8.5 | R84: =MEDIAN(M84:Q84) -> 8.5 | Y84: =IFERROR(VLOOKUP(K84,[1]analisis!$D$9:$OI$44,$Y$8,FALSE),"")
D85: E | E85: CB | F85: VIH | G85: Adulto | H85: T-VIH | J85: 01061000028 | K85: CP1B07T150/300MG | L85: ZIDOVUDINA/LAMIVUDINA 300 mg + 150 mg TABLETA FRASCO | Y85: =IFERROR(VLOOKUP(K85,[1]analisis!$D$9:$OI$44,$Y$8,FALSE),"")
D86: E | E86: CB | F86: VIH | G86: Adulto-Pediátrico | H86: T-VIH | J86: 01061000046 | K86: CP1E01T0300/150/200 | L86: ZIDOVUDINA/LAMIVUDINA/NEVIRAPINA 150 mg + 300 mg + 200 mg TABLETA FRASCO | Y86: =IFERROR(VLOOKUP(K86,[1]analisis!$D$9:$OI$44,$Y$8,FALSE),"")
L87: % de disponibilidad | M87: =COUNTIF(M72:M86,">0.1")/COUNTIF(M72:M86,">=0") -> 1 | N87: =COUNTIF(N72:N86,">0.1")/COUNTIF(N72:N86,">=0") -> 1 | O87: =COUNTIF(O72:O86,">0.1")/COUNTIF(O72:O86,">=0") -> 1 | P87: =COUNTIF(P72:P86,">0.1")/COUNTIF(P72:P86,">=0") -> 1 | Q87: =COUNTIF(Q72:Q86,">0.1")/COUNTIF(Q72:Q86,">=0") -> 1 | R87: =COUNTIF(R72:R86,">0.1")/COUNTIF(R72:R86,">=0") -> 1 | Y87: =IFERROR(VLOOKUP(K87,[1]analisis!$D$9:$OI$44,$Y$8,FALSE),"") | AH87: =IFERROR(MEDIAN(AA87:AF87),"")
L88: % desabastecidos | M88: =COUNTIF(M72:M86,"<=0.1")/COUNTIF(M72:M86,">=0") -> 0 | N88: =COUNTIF(N72:N86,"<=0.1")/COUNTIF(N72:N86,">=0") -> 0 | O88: =COUNTIF(O72:O86,"<=0.1")/COUNTIF(O72:O86,">=0") -> 0 | P88: =COUNTIF(P72:P86,"<=0.1")/COUNTIF(P72:P86,">=0") -> 0 | Q88: =COUNTIF(Q72:Q86,"<=0.1")/COUNTIF(Q72:Q86,">=0") -> 0 | R88: =COUNTIF(R72:R86,"<=0.1")/COUNTIF(R72:R86,">=0") -> 0 | Y88: =IFERROR(VLOOKUP(K88,[1]analisis!$D$9:$OI$44,$Y$8,FALSE),"") | AH88: =IFERROR(MEDIAN(AA88:AF88),"")
L89: % sub stock | M89: =(COUNTIF(M72:M86,"<1")-COUNTIF(M72:M86,"<0.1"))/COUNTIF(M72:M86,">=0") -> 0 | N89: =(COUNTIF(N72:N86,"<1")-COUNTIF(N72:N86,"<0.1"))/COUNTIF(N72:N86,">=0") -> 0 | O89: =(COUNTIF(O72:O86,"<1")-COUNTIF(O72:O86,"<0.1"))/COUNTIF(O72:O86,">=0") -> 0 | P89: =(COUNTIF(P72:P86,"<1")-COUNTIF(P72:P86,"<0.1"))/COUNTIF(P72:P86,">=0") -> 0 | Q89: =(COUNTIF(Q72:Q86,"<1")-COUNTIF(Q72:Q86,"<0.1"))/COUNTIF(Q72:Q86,">=0") -> 0 | R89: =(COUNTIF(R72:R86,"<1")-COUNTIF(R72:R86,"<0.1"))/COUNTIF(R72:R86,">=0") -> 0 | Y89: =IFERROR(VLOOKUP(K89,[1]analisis!$D$9:$OI$44,$Y$8,FALSE),"") | AH89: =IFERROR(MEDIAN(AA89:AF89),"")
L90: % stock normal | M90: =(COUNTIF(M72:M86,"<=4")-COUNTIF(M72:M86,"<1"))/COUNTIF(M72:M86,">=0") -> 0.5 | N90: =(COUNTIF(N72:N86,"<=4")-COUNTIF(N72:N86,"<1"))/COUNTIF(N72:N86,">=0") -> 0.33333333 | O90: =(COUNTIF(O72:O86,"<=4")-COUNTIF(O72:O86,"<1"))/COUNTIF(O72:O86,">=0") -> 1 | P90: =(COUNTIF(P72:P86,"<=4")-COUNTIF(P72:P86,"<1"))/COUNTIF(P72:P86,">=0") -> 0 | Q90: =(COUNTIF(Q72:Q86,"<=6")-COUNTIF(Q72:Q86,"<1"))/COUNTIF(Q72:Q86,">=0") -> 0.5 | R90: =(COUNTIF(R72:R86,"<=4")-COUNTIF(R72:R86,"<1"))/COUNTIF(R72:R86,">=0") -> 0 | Y90: =IFERROR(VLOOKUP(K90,[1]analisis!$D$9:$OI$44,$Y$8,FALSE),"") | AH90: =IFERROR(MEDIAN(AA90:AF90),"")
L91: % sobre stock | M91: =COUNTIF(M72:M86,">4")/COUNTIF(M72:M86,">=0") -> 0.5 | N91: =COUNTIF(N72:N86,">4")/COUNTIF(N72:N86,">=0") -> 0.66666667 | O91: =COUNTIF(O72:O86,">4")/COUNTIF(O72:O86,">=0") -> 0 | P91: =COUNTIF(P72:P86,">4")/COUNTIF(P72:P86,">=0") -> 1 | Q91: =COUNTIF(Q72:Q86,">6")/COUNTIF(Q72:Q86,">=0") -> 0.5 | R91: =COUNTIF(R72:R86,">4")/COUNTIF(R72:R86,">=0") -> 1 | Y91: =IFERROR(VLOOKUP(K91,[1]analisis!$D$9:$OI$44,$Y$8,FALSE),"") | AH91: =IFERROR(MEDIAN(AA91:AF91),"")
L92: Mediana de disponibilidad | M92: =MEDIAN(M72:M86) -> 3.495 | N92: =MEDIAN(N72:N86) -> 5.25 | O92: =MEDIAN(O72:O86) -> 3.94 | P92: =MEDIAN(P72:P86) -> 4.79 | Q92: =IFERROR(MEDIAN(Q72:Q86),0) -> 6.3468 | R92: =MEDIAN(R72:R86) -> 6.875 | Y92: =IFERROR(VLOOKUP(K92,[1]analisis!$D$9:$OI$44,$Y$8,FALSE),"") | AH92: =IFERROR(MEDIAN(AA92:AF92),"")
Y93: =IFERROR(VLOOKUP(K93,[1]analisis!$D$9:$OI$44,$Y$8,FALSE),"") | AH93: =IFERROR(MEDIAN(AA93:AF93),"")
Y94: =IFERROR(VLOOKUP(K94,[1]analisis!$D$9:$OI$44,$Y$8,FALSE),"") | AH94: =IFERROR(MEDIAN(AA94:AF94),"")
I95: Tabla 4 | Q95: (1 de 1) | R95: (1 de 2) | Y95: =IFERROR(VLOOKUP(K95,[1]analisis!$D$9:$OI$44,$Y$8,FALSE),"") | AH95: =IFERROR(MEDIAN(AA95:AF95),"")
D96: E | E96: CB | F96: VIH | G96: Pediátrico | H96: T-VIH | I96: MEDICAMENTOS ARV PEDIATRICO | J96: 01061000001 | K96: CPIBO8S240 | L96: ABACAVIR 20 mg/ml SUSPENSIÓN ORAL FRASCO x 240 ml | N96: 3.57 | O96: 5 | Q96: 11.5 | Y96: =IFERROR(VLOOKUP(K96,[1]analisis!$D$9:$OI$44,$Y$8,FALSE),"") | AH96: =IFERROR(MEDIAN(AA96:AF96),"")
D97: E | E97: CB | F97: VIH | G97: Pediátrico | H97: T-VIH | J97: 01061000009 | K97: CP1C02C090 | L97: EFAVIRENZ 200 mg TABLETA FRASCO x 30 | Y97: =IFERROR(VLOOKUP(K97,[1]analisis!$D$9:$OI$44,$Y$8,FALSE),"") | AH97: =IFERROR(MEDIAN(AA97:AF97),"")
D98: E | E98: CB | F98: VIH | G98: Pediátrico | H98: T-VIH | J98: 01061000006 | K98: CP1C02T050 | L98: EFAVIRENZ 50 mg TABLETA FRASCO | Y98: =IFERROR(VLOOKUP(K98,[1]analisis!$D$9:$OI$44,$Y$8,FALSE),"") | AH98: =IFERROR(MEDIAN(AA98:AF98),"")
D99: E | E99: CB | F99: VIH | G99: Pediátrico | H99: T-VIH | J99: 01061000024 | K99: CP1B04S100 | L99: LAMIVUDINA 10 mg/ml SUSPENSIÓN ORAL FRASCO x 240 ml | Y99: =IFERROR(VLOOKUP(K99,[1]analisis!$D$9:$OI$44,$Y$8,FALSE),"") | AH99: =IFERROR(MEDIAN(AA99:AF99),"")
D100: E | E100: CB | F100: VIH | G100: Pediátrico | H100: T-VIH | J100: 01061000041 | K100: CP1A09S160 | L100: LOPINAVIR/RITONAVIR (KALETRA) 80 mg + 20 mg SUSPENSIÓN ORAL FRASCO x 120 ml | N100: 2.71 | O100: 4 | Q100: 5.7143 | R100: =MEDIAN(M100:Q100) -> 4 | Y100: =IFERROR(VLOOKUP(K100,[1]analisis!$D$9:$OI$44,$Y$8,FALSE),"") | AH100: =IFERROR(MEDIAN(AA100:AF100),"")
D101: E | E101: CB | F101: VIH | G101: Pediátrico | H101: T-VIH | J101: 01061000020 | K101: CP1C01S240ML | L101: NEVIRAPINA 50 mg/5ml SUSPENSIÓN ORAL FRASCO x 240 ml | N101: 3.345 | O101: 3 | Q101: 0.8 | Y101: =IFERROR(VLOOKUP(K101,[1]analisis!$D$9:$OI$44,$Y$8,FALSE),"") | AH101: =IFERROR(MEDIAN(AA101:AF101),"")
D102: E | E102: CB | F102: VIH | G102: Pediátrico | H102: T-VIH | J102: 01061001041 | K102: CP1E01T35 | L102: TENOFOVIR 40 mg SUSPENSIÓN ORAL FRASCO | Y102: =IFERROR(VLOOKUP(K102,[1]analisis!$D$9:$OI$44,$Y$8,FALSE),"") | AH102: =IFERROR(MEDIAN(AA102:AF102),"")
D103: E | E103: CB | F103: VIH | G103: Pediátrico | H103: T-VIH | J103: 01061000045 | K103: CP1B05S240 | L103: ZIDOVUDINA 50 mg/5ml SUSPENSIÓN ORAL FRASCO x 240 ml | M103: 2.75 | N103: 2.715 | O103: 3.33 | P103: 3.5 | Q103: 16.8824 | R103: =MEDIAN(M103:Q103) -> 3.33 | Y103: =IFERROR(VLOOKUP(K103,[1]analisis!$D$9:$OI$44,$Y$8,FALSE),"") | AH103: =IFERROR(MEDIAN(AA103:AF103),"")
D104: E | E104: CB | F104: VIH | G104: Pediátrico | H104: T-VIH | J104: 01061000031 | K104: CP1B07T30MG0 | L104: ZIDOVUDINA/LAMIVUDINA 60 mg + 30 mg TABLETA FRASCO | N104: 4 | Q104: 2.7083 | R104: =MEDIAN(M104:Q104) -> 3.35415 | Y104: =IFERROR(VLOOKUP(K104,[1]analisis!$D$9:$OI$44,$Y$8,FALSE),"") | AH104: =IFERROR(MEDIAN(AA104:AF104),"")
D105: E | E105: CB | F105: VIH | G105: Adulto-Pediátrico | H105: T-VIH | J105: 01061000032 | K105: CP1E01T030/50/6 | L105: ZIDOVUDINA/LAMIVUDINA/NEVIRAPINA 60 mg + 30 mg + 50 mg TABLETA FRASCO | Y105: =IFERROR(VLOOKUP(K105,[1]analisis!$D$9:$OI$44,$Y$8,FALSE),"") | AH105: =IFERROR(MEDIAN(AA105:AF105),"")
...

Sheet Boletin
B2: SRS-2
B3: Boletín Regional de Información Estratégica del SUGEMI | Y3: Trimestral
Y5: ='reg-datos'!J5 -> Abril-Junio
Y6: Volumen 4, Numero 2
B8: Servicio Regional de Salud del Norcentral
B9: Unidad Regional de Gestión de Medicamentos e Insumos – URGM-
D12: Contexto: En julio del 2010 se estableció la creación de un Sistema Único de Gestión de Medicamentos e Insumos –SUGEMI-, a través de la Disposición Ministerial No.000019. Su objetivo principal es integrar todos los sistemas de suministros existentes en la Red pública de servicios, bajo una sola administración, que asegure la permanente disponibilidad de medicamentos e insumos médicos de buena calidad. Su alcance y ámbito de operación es el Servicio Regional de Salud y sus redes de establecimientos. El SUGEMI cuenta con un sistema de información que recoge datos mensuales de existencias y consumos de medicamentos, desde los Centros Especializados de Atención en Salud (CEAS) y Centros de Primer Nivel de Atención (CPN). A partir de estos datos se elabora el presente boletín.
C14: Indicador #1. | D14: % De disponibilidad de medicamentos trazadores de uso en PN, TB, ARV y métodos de Planificación Familiar en almacén regional y locales. | Q14: Indicador #2 | S14: Medicamentos de mayor consumo en SRS
C15: Fecha de corte: | E15: ='reg-datos'!$M$5 -> 45474 | Q15: Fecha de corte: | S15: ='reg-datos'!$M$5 -> 45474
C32: PN = Primer Nivel de atención | E32: ARV = Antirretrovirales | H32: TB = Tuberculosis | M32: PF = Planificación Familiar
B34: ALERTAS DE STOCK
B57: Indicador #3. Mediana de disponibilidad en meses en almacén regional para medicamentos trazadores de uso en Primer Nivel, TB, VIH y métodos de PF.
B58: Periodo: | D58: ='tab-graficos'!H6 -> mar-2023 - Jun-2024
